BEGIN:VCALENDAR
VERSION:2.0
PRODID:-//hacksw/handcal//NONSGML v1.0//EN
BEGIN:VEVENT
UID:c89688ae5cec424c94143402ac0fa1ed@luthermemorialonline.org
DTSTAMP:20260421T104013Z
DTSTART:20261213T210000Z
DTEND:20261214T000000Z
SUMMARY:St. Lucia Festival and Reception
DESCRIPTION:
END:VEVENT
END:VCALENDAR