BEGIN:VCALENDAR
VERSION:2.0
PRODID:-//hacksw/handcal//NONSGML v1.0//EN
BEGIN:VEVENT
UID:4663798070e628a96cb6ac2942df2d03@luthermemorialonline.org
DTSTAMP:20260423T130632Z
DTSTART:20260421T192700Z
DTEND:20260421T192700Z
SUMMARY:Sunday Worship and Events
DESCRIPTION:
END:VEVENT
END:VCALENDAR